BEGIN:VCALENDAR
PRODID:-//Det Danske Spejderkorps//NONSGML Gruppeweb//EN
VERSION:2.0
CALSCALE:GREGORIAN
X-PUBLISHED-TTL:PT1H
X-WR-CALNAME:Klit Division
METHOD:PUBLISH
BEGIN:VEVENT
UID:gruppeweb.dk:6200:event:123
DTSTAMP:20260420T024805Z
LAST-MODIFIED:20241205T191903Z
SUMMARY:Skt. Georg ved Thistedspejderne
DESCRIPTION:
URL:https://www.klitdivision.dk/begivenhed/skt-georg-ved-thistedspejderne
DTSTART;VALUE=DATE:20250423
LOCATION:
END:VEVENT
BEGIN:VEVENT
UID:gruppeweb.dk:6200:event:131
DTSTAMP:20260420T024805Z
LAST-MODIFIED:20241210T060248Z
SUMMARY:DIVI 2025
DESCRIPTION:\n
URL:https://www.klitdivision.dk/begivenhed/divi-2025
DTSTART;VALUE=DATE:20250523
DTEND;VALUE=DATE:20250525
LOCATION:
END:VEVENT
BEGIN:VEVENT
UID:gruppeweb.dk:6200:event:143
DTSTAMP:20260420T024805Z
LAST-MODIFIED:20250319T233433Z
SUMMARY:DIVI 2025
DESCRIPTION:
URL:https://www.klitdivision.dk/begivenhed/divi-2025-0
DTSTART;VALUE=DATE:20250525
LOCATION:
END:VEVENT
BEGIN:VEVENT
UID:gruppeweb.dk:6200:event:139
DTSTAMP:20260420T024805Z
LAST-MODIFIED:20241210T060247Z
SUMMARY:Centerlejr på www.lejrpladsentandrup.dk
DESCRIPTION:\n
URL:https://www.klitdivision.dk/begivenhed/centerlejr-paa-wwwlejrpladsentan
 drupdk
DTSTART;VALUE=DATE:20250712
DTEND;VALUE=DATE:20250718
LOCATION:Klit Division\, Ørhagevej 150\, 7700 Thisted
END:VEVENT
BEGIN:VEVENT
UID:gruppeweb.dk:6200:event:129
DTSTAMP:20260420T024805Z
LAST-MODIFIED:20241205T191908Z
SUMMARY:Nat i naturen
DESCRIPTION:
URL:https://www.klitdivision.dk/begivenhed/nat-i-naturen
DTSTART;VALUE=DATE:20250906
LOCATION:
END:VEVENT
BEGIN:VEVENT
UID:gruppeweb.dk:6200:event:132
DTSTAMP:20260420T024805Z
LAST-MODIFIED:20241205T191910Z
SUMMARY:nat
DESCRIPTION:
URL:https://www.klitdivision.dk/begivenhed/nat
DTSTART;VALUE=DATE:20250907
LOCATION:
END:VEVENT
BEGIN:VEVENT
UID:gruppeweb.dk:6200:event:135
DTSTAMP:20260420T024805Z
LAST-MODIFIED:20241205T191911Z
SUMMARY:Grentræf Mikro-Mini
DESCRIPTION:
URL:https://www.klitdivision.dk/begivenhed/grentraef-mikro-mini
DTSTART;VALUE=DATE:20250910
LOCATION:
END:VEVENT
BEGIN:VEVENT
UID:gruppeweb.dk:6200:event:128
DTSTAMP:20260420T024805Z
LAST-MODIFIED:20241205T191907Z
SUMMARY:Grentræf Junior-Trop
DESCRIPTION:
URL:https://www.klitdivision.dk/begivenhed/grentraef-junior-trop
DTSTART;VALUE=DATE:20250917
LOCATION:
END:VEVENT
BEGIN:VEVENT
UID:gruppeweb.dk:6200:event:130
DTSTAMP:20260420T024805Z
LAST-MODIFIED:20241205T191908Z
SUMMARY:Uddannelsesmarked
DESCRIPTION:
URL:https://www.klitdivision.dk/begivenhed/uddannelsesmarked-1
DTSTART;VALUE=DATE:20250927
LOCATION:
END:VEVENT
BEGIN:VEVENT
UID:gruppeweb.dk:6200:event:136
DTSTAMP:20260420T024805Z
LAST-MODIFIED:20241205T191912Z
SUMMARY:Uddannels
DESCRIPTION:
URL:https://www.klitdivision.dk/begivenhed/uddannels
DTSTART;VALUE=DATE:20250928
LOCATION:
END:VEVENT
BEGIN:VEVENT
UID:gruppeweb.dk:6200:event:133
DTSTAMP:20260420T024805Z
LAST-MODIFIED:20241205T191910Z
SUMMARY:Blåt døgn for ledere
DESCRIPTION:\n
URL:https://www.klitdivision.dk/begivenhed/blaat-doegn-ledere
DTSTART;VALUE=DATE:20251025
DTEND;VALUE=DATE:20251027
LOCATION:
END:VEVENT
BEGIN:VEVENT
UID:gruppeweb.dk:6200:event:137
DTSTAMP:20260420T024805Z
LAST-MODIFIED:20241205T192421Z
SUMMARY:Korpsrådsmøde
DESCRIPTION:\n
URL:https://www.klitdivision.dk/begivenhed/korpsraadsmoede-2
DTSTART;VALUE=DATE:20251114
DTEND;VALUE=DATE:20251117
LOCATION:Klit Division\, Ørhagevej 150\, 7700 Thisted
END:VEVENT
BEGIN:VEVENT
UID:gruppeweb.dk:6200:event:147
DTSTAMP:20260420T024805Z
LAST-MODIFIED:20260220T124705Z
SUMMARY:Tænkedags arrangement - Thisted Spejderne inviterer
DESCRIPTION:
URL:https://www.klitdivision.dk/begivenhed/taenkedags-arrangement-thisted-s
 pejderne-inviterer
DTSTART;VALUE=DATE:20260225
LOCATION:
END:VEVENT
BEGIN:VEVENT
UID:gruppeweb.dk:6200:event:146
DTSTAMP:20260420T024805Z
LAST-MODIFIED:20260220T124703Z
SUMMARY:Thy24
DESCRIPTION:\n
URL:https://www.klitdivision.dk/begivenhed/thy24
DTSTART;VALUE=DATE:20260314
DTEND;VALUE=DATE:20260316
LOCATION:
END:VEVENT
BEGIN:VEVENT
UID:gruppeweb.dk:6200:event:148
DTSTAMP:20260420T024805Z
LAST-MODIFIED:20260220T124705Z
SUMMARY:Divisionsrådsmøde
DESCRIPTION:
URL:https://www.klitdivision.dk/begivenhed/divisionsraadsmoede-3
DTSTART;VALUE=DATE:20260407
LOCATION:
END:VEVENT
BEGIN:VEVENT
UID:gruppeweb.dk:6200:event:149
DTSTAMP:20260420T024805Z
LAST-MODIFIED:20260220T125910Z
SUMMARY:Sct. Georgsdag - Klitmøller inviterer
DESCRIPTION:
URL:https://www.klitdivision.dk/begivenhed/sct-georgsdag-klitmoeller-invite
 rer
DTSTART;VALUE=DATE:20260423
LOCATION:
END:VEVENT
BEGIN:VEVENT
UID:gruppeweb.dk:6200:event:145
DTSTAMP:20260420T024805Z
LAST-MODIFIED:20260220T124702Z
SUMMARY:Fællesspejdermøde for hele divisionen
DESCRIPTION:
URL:https://www.klitdivision.dk/begivenhed/faellesspejdermoede-hele-divisio
 nen
DTSTART;VALUE=DATE:20260505
LOCATION:
END:VEVENT
BEGIN:VEVENT
UID:gruppeweb.dk:6200:event:144
DTSTAMP:20260420T024805Z
LAST-MODIFIED:20260220T124659Z
SUMMARY:Spejderdag
DESCRIPTION:
URL:https://www.klitdivision.dk/begivenhed/spejderdag
DTSTART;VALUE=DATE:20260510
LOCATION:
END:VEVENT
BEGIN:VEVENT
UID:gruppeweb.dk:6200:event:152
DTSTAMP:20260420T024805Z
LAST-MODIFIED:20260220T125915Z
SUMMARY:Centerlejr på www.lejrpladsentandrup.dk
DESCRIPTION:\n
URL:https://www.klitdivision.dk/begivenhed/centerlejr-paa-wwwlejrpladsentan
 drupdk-0
DTSTART;VALUE=DATE:20260514
DTEND;VALUE=DATE:20260518
LOCATION:
END:VEVENT
BEGIN:VEVENT
UID:gruppeweb.dk:6200:event:150
DTSTAMP:20260420T024805Z
LAST-MODIFIED:20260220T125913Z
SUMMARY:SL26
DESCRIPTION:\n
URL:https://www.klitdivision.dk/begivenhed/sl26
DTSTART;VALUE=DATE:20260718
DTEND;VALUE=DATE:20260727
LOCATION:
END:VEVENT
BEGIN:VEVENT
UID:gruppeweb.dk:6200:event:151
DTSTAMP:20260420T024805Z
LAST-MODIFIED:20260220T125914Z
SUMMARY:Fællesspejdermøde for hele divisionen
DESCRIPTION:
URL:https://www.klitdivision.dk/begivenhed/faellesspejdermoede-hele-divisio
 nen-0
DTSTART;VALUE=DATE:20260916
LOCATION:
END:VEVENT
BEGIN:VEVENT
UID:gruppeweb.dk:6200:event:153
DTSTAMP:20260420T024805Z
LAST-MODIFIED:20260220T125916Z
SUMMARY:BLÅT døgn
DESCRIPTION:\n
URL:https://www.klitdivision.dk/begivenhed/blaat-doegn
DTSTART;VALUE=DATE:20261024
DTEND;VALUE=DATE:20261026
LOCATION:
END:VEVENT
BEGIN:VEVENT
UID:gruppeweb.dk:6200:event:154
DTSTAMP:20260420T024805Z
LAST-MODIFIED:20260220T125917Z
SUMMARY:Korpsrådsmøde
DESCRIPTION:\n
URL:https://www.klitdivision.dk/begivenhed/korpsraadsmoede-3
DTSTART;VALUE=DATE:20261113
DTEND;VALUE=DATE:20261116
LOCATION:
END:VEVENT
END:VCALENDAR
